BEGIN:VCALENDAR
VERSION:2.0
PRODID:-//New Mexico Vine &amp; Wine Society - MRG Chapter - ECPv6.15.20//NONSGML v1.0//EN
CALSCALE:GREGORIAN
METHOD:PUBLISH
X-ORIGINAL-URL:https://mrg.nmvineandwine.org
X-WR-CALDESC:Events for New Mexico Vine &amp; Wine Society - MRG Chapter
REFRESH-INTERVAL;VALUE=DURATION:PT1H
X-Robots-Tag:noindex
X-PUBLISHED-TTL:PT1H
BEGIN:VTIMEZONE
TZID:America/Denver
BEGIN:DAYLIGHT
TZOFFSETFROM:-0700
TZOFFSETTO:-0600
TZNAME:MDT
DTSTART:20230312T090000
END:DAYLIGHT
BEGIN:STANDARD
TZOFFSETFROM:-0600
TZOFFSETTO:-0700
TZNAME:MST
DTSTART:20231105T080000
END:STANDARD
BEGIN:DAYLIGHT
TZOFFSETFROM:-0700
TZOFFSETTO:-0600
TZNAME:MDT
DTSTART:20240310T090000
END:DAYLIGHT
BEGIN:STANDARD
TZOFFSETFROM:-0600
TZOFFSETTO:-0700
TZNAME:MST
DTSTART:20241103T080000
END:STANDARD
BEGIN:DAYLIGHT
TZOFFSETFROM:-0700
TZOFFSETTO:-0600
TZNAME:MDT
DTSTART:20250309T090000
END:DAYLIGHT
BEGIN:STANDARD
TZOFFSETFROM:-0600
TZOFFSETTO:-0700
TZNAME:MST
DTSTART:20251102T080000
END:STANDARD
END:VTIMEZONE
BEGIN:VEVENT
DTSTART;VALUE=DATE:20240608
DTEND;VALUE=DATE:20240609
DTSTAMP:20260421T180155
CREATED:20240502T045326Z
LAST-MODIFIED:20240502T045326Z
UID:432-1717804800-1717891199@mrg.nmvineandwine.org
SUMMARY:State Fair Wine Competition - Judging
DESCRIPTION:People are needed to help in the back room with pouring and taking the wine tastings out to the judges.  If you have a current servers license and would like to help out\, call Martha Powell @ 505-604-2344 or Barbara Jaramillo @ 505-859-0684.  We could really use your if you are interested!
URL:https://mrg.nmvineandwine.org/event/state-fair-wine-competition-judging/
END:VEVENT
BEGIN:VEVENT
DTSTART;VALUE=DATE:20240614
DTEND;VALUE=DATE:20240616
DTSTAMP:20260421T180155
CREATED:20240502T045544Z
LAST-MODIFIED:20240502T045544Z
UID:434-1718323200-1718495999@mrg.nmvineandwine.org
SUMMARY:Tentative - Tour of Las Cruces Wineries
DESCRIPTION:Arrangements still in process.  More to come!
URL:https://mrg.nmvineandwine.org/event/tentative-tour-of-las-cruces-wineries/
END:VEVENT
END:VCALENDAR