BEGIN:VCALENDAR
VERSION:2.0
PRODID:-//New Mexico Vine &amp; Wine Society - MRG Chapter - ECPv6.15.20//NONSGML v1.0//EN
CALSCALE:GREGORIAN
METHOD:PUBLISH
X-ORIGINAL-URL:https://mrg.nmvineandwine.org
X-WR-CALDESC:Events for New Mexico Vine &amp; Wine Society - MRG Chapter
REFRESH-INTERVAL;VALUE=DURATION:PT1H
X-Robots-Tag:noindex
X-PUBLISHED-TTL:PT1H
BEGIN:VTIMEZONE
TZID:America/Denver
BEGIN:DAYLIGHT
TZOFFSETFROM:-0700
TZOFFSETTO:-0600
TZNAME:MDT
DTSTART:20230312T090000
END:DAYLIGHT
BEGIN:STANDARD
TZOFFSETFROM:-0600
TZOFFSETTO:-0700
TZNAME:MST
DTSTART:20231105T080000
END:STANDARD
BEGIN:DAYLIGHT
TZOFFSETFROM:-0700
TZOFFSETTO:-0600
TZNAME:MDT
DTSTART:20240310T090000
END:DAYLIGHT
BEGIN:STANDARD
TZOFFSETFROM:-0600
TZOFFSETTO:-0700
TZNAME:MST
DTSTART:20241103T080000
END:STANDARD
BEGIN:DAYLIGHT
TZOFFSETFROM:-0700
TZOFFSETTO:-0600
TZNAME:MDT
DTSTART:20250309T090000
END:DAYLIGHT
BEGIN:STANDARD
TZOFFSETFROM:-0600
TZOFFSETTO:-0700
TZNAME:MST
DTSTART:20251102T080000
END:STANDARD
END:VTIMEZONE
BEGIN:VEVENT
DTSTART;TZID=America/Denver:20240519T130000
DTEND;TZID=America/Denver:20240519T153000
DTSTAMP:20260421T192746
CREATED:20240502T034552Z
LAST-MODIFIED:20240502T042248Z
UID:420-1716123600-1716132600@mrg.nmvineandwine.org
SUMMARY:Tasting at Gruet Winery
DESCRIPTION:Join us for a tasting at Gruet Winery on May 19.   We will get a tour of the winery\, and some will have the opportunity to go into the barrel room.  We might even get Carrie Gurule\, new Head Winemaker for Gruet as our Host.  Special note: this is the 35th anniversary of Gruet’s first domestics wine release! \nIf you are planning on being there\, please bring an appetizer to share with the rest of the group.  It is always fun to try other people’s treats! \nCost for this tasting is $30/person.  Please use the following link to prepay by credit card. \n\n\nUp to TWO attendees can be specified per submission.\nUpdate quantity to correct number at checkout.\nThis event is non-refundable. \nWe are limited to 40 persons.  Please RSVP ASAP for this event at mrgvinewine.2022@gmail.com. \n 
URL:https://mrg.nmvineandwine.org/event/tasting-at-gruet-winery/
LOCATION:Gruet Winery\, 8400 Pan American Fwy NE\, Albuquerque\, NM\, 87113\, United States
END:VEVENT
END:VCALENDAR