BEGIN:VCALENDAR
VERSION:2.0
PRODID:-//New Mexico Vine &amp; Wine Society - MRG Chapter - ECPv6.15.20//NONSGML v1.0//EN
CALSCALE:GREGORIAN
METHOD:PUBLISH
X-ORIGINAL-URL:https://mrg.nmvineandwine.org
X-WR-CALDESC:Events for New Mexico Vine &amp; Wine Society - MRG Chapter
REFRESH-INTERVAL;VALUE=DURATION:PT1H
X-Robots-Tag:noindex
X-PUBLISHED-TTL:PT1H
BEGIN:VTIMEZONE
TZID:America/Denver
BEGIN:DAYLIGHT
TZOFFSETFROM:-0700
TZOFFSETTO:-0600
TZNAME:MDT
DTSTART:20220313T090000
END:DAYLIGHT
BEGIN:STANDARD
TZOFFSETFROM:-0600
TZOFFSETTO:-0700
TZNAME:MST
DTSTART:20221106T080000
END:STANDARD
BEGIN:DAYLIGHT
TZOFFSETFROM:-0700
TZOFFSETTO:-0600
TZNAME:MDT
DTSTART:20230312T090000
END:DAYLIGHT
BEGIN:STANDARD
TZOFFSETFROM:-0600
TZOFFSETTO:-0700
TZNAME:MST
DTSTART:20231105T080000
END:STANDARD
BEGIN:DAYLIGHT
TZOFFSETFROM:-0700
TZOFFSETTO:-0600
TZNAME:MDT
DTSTART:20240310T090000
END:DAYLIGHT
BEGIN:STANDARD
TZOFFSETFROM:-0600
TZOFFSETTO:-0700
TZNAME:MST
DTSTART:20241103T080000
END:STANDARD
END:VTIMEZONE
BEGIN:VEVENT
DTSTART;TZID=America/Denver:20231210T130000
DTEND;TZID=America/Denver:20231210T153000
DTSTAMP:20260422T023713
CREATED:20231110T033315Z
LAST-MODIFIED:20231110T043039Z
UID:362-1702213200-1702222200@mrg.nmvineandwine.org
SUMMARY:Gathering at Jaramillo Vineyards
DESCRIPTION:We will be gathering at Jaramillo Vineyards 🍇🍷\, located at 30 Camino Nopales in Belen\, NM.    Please bring an appetizer to share with the group! \nBarb and Robert will serve eight of their award-winning 🏆 and new wines for us at our gathering.  These will include: \n\nArroyo Gold\nDesert Rose\nBarbera\nCabernet Franc\nTempranillo Roble\nTempranillo Reserva\nJudy Chicago Red\nDon Salo\n\nCost:  $20/person  Also you will take home a Jaramillo wine glass!  Please use the following link to prepay by credit card. \nUp to TWO attendees can be specified per submission.\nUpdate quantity to correct number at checkout.\nThis event is non-refundable. \n\nDirections:  Take I-25 towards Belen.  Take exit 195.  You will go under I-25 and drive about 1.0 miles. You will make a sharp left onto Andres Sanchez Rd. Continue straight on Andres Sanchez Rd for 1.2 miles to Camino Nopales.  Take Camino Nopales up to the Vineyard. \nPlease RSVP to mrgvinewine.2022@gmail.com prior to December 1\, 2023 so that I have a head count.
URL:https://mrg.nmvineandwine.org/event/gathering-at-jaramillo-vineyards/
LOCATION:Jaramillo Vineyards\, 30 Camino Nopales\, Belen\, NM\, United States
END:VEVENT
END:VCALENDAR