BEGIN:VCALENDAR
VERSION:2.0
PRODID:-//New Mexico Vine &amp; Wine Society - MRG Chapter - ECPv6.15.20//NONSGML v1.0//EN
CALSCALE:GREGORIAN
METHOD:PUBLISH
X-WR-CALNAME:New Mexico Vine &amp; Wine Society - MRG Chapter
X-ORIGINAL-URL:https://mrg.nmvineandwine.org
X-WR-CALDESC:Events for New Mexico Vine &amp; Wine Society - MRG Chapter
REFRESH-INTERVAL;VALUE=DURATION:PT1H
X-Robots-Tag:noindex
X-PUBLISHED-TTL:PT1H
BEGIN:VTIMEZONE
TZID:America/Denver
BEGIN:DAYLIGHT
TZOFFSETFROM:-0700
TZOFFSETTO:-0600
TZNAME:MDT
DTSTART:20240310T090000
END:DAYLIGHT
BEGIN:STANDARD
TZOFFSETFROM:-0600
TZOFFSETTO:-0700
TZNAME:MST
DTSTART:20241103T080000
END:STANDARD
BEGIN:DAYLIGHT
TZOFFSETFROM:-0700
TZOFFSETTO:-0600
TZNAME:MDT
DTSTART:20250309T090000
END:DAYLIGHT
BEGIN:STANDARD
TZOFFSETFROM:-0600
TZOFFSETTO:-0700
TZNAME:MST
DTSTART:20251102T080000
END:STANDARD
BEGIN:DAYLIGHT
TZOFFSETFROM:-0700
TZOFFSETTO:-0600
TZNAME:MDT
DTSTART:20260308T090000
END:DAYLIGHT
BEGIN:STANDARD
TZOFFSETFROM:-0600
TZOFFSETTO:-0700
TZNAME:MST
DTSTART:20261101T080000
END:STANDARD
END:VTIMEZONE
BEGIN:VEVENT
DTSTART;TZID=America/Denver:20250809T140000
DTEND;TZID=America/Denver:20250809T170000
DTSTAMP:20260421T223300
CREATED:20250625T035807Z
LAST-MODIFIED:20250713T161016Z
UID:801-1754748000-1754758800@mrg.nmvineandwine.org
SUMMARY:2025 MRG Annual Meeting and BBQ
DESCRIPTION:All attendees MUST register on-line by August 6 so that we can plan appropriately.  There will be no on-site registrations.\n \nNote:  Attendance is included with MRG membership for the upcoming year \n- August 1\, 2025 through July 31\, 2026. \n\nIf you need to update your membership\, please do that first. See JOIN\, \nthen return to this event to continue event registration.\nCost for Guests/Non-Members:  $20.00.  This event is Non-refundable. \nAGENDA: \n1:00 pm — MRG Board of Directors Meeting (tentative). \n2:00 pm — Annual Meeting and BBQ.  Please bring a bottle of your favorite wine to share with the group.  Also\, please bring the following\, depending on the first letter of your last name: \n\nA-H — Appetizer\nI-P — Side Dish\nQ-Z — Dessert\n\n3:00 pm — Dinner served. \nNew this year:  Silent auction! \n  \n\n 
URL:https://mrg.nmvineandwine.org/event/2025-mrg-annual-meeting-and-bbq/
LOCATION:Silver Crane Vineyards – Los Lunas\, 11 Mills Lane NE\, Los Lunas\, NM\, 87031\, United States
END:VEVENT
BEGIN:VEVENT
DTSTART;TZID=America/Denver:20251019T130000
DTEND;TZID=America/Denver:20251019T160000
DTSTAMP:20260421T223300
CREATED:20250701T030129Z
LAST-MODIFIED:20250701T030129Z
UID:827-1760878800-1760889600@mrg.nmvineandwine.org
SUMMARY:Wine and Dinner (Tentative)
DESCRIPTION:Wine and Dinner\, details TBD.  Location: Placitas\, NM
URL:https://mrg.nmvineandwine.org/event/wine-and-dinner-tentative/
END:VEVENT
END:VCALENDAR